Package: miRNAtap Version: 1.26.0 Command: /Library/Frameworks/R.framework/Versions/Current/Resources/bin/R CMD build --keep-empty-dirs --no-resave-data miRNAtap StartedAt: 2021-10-14 13:17:40 -0400 (Thu, 14 Oct 2021) EndedAt: 2021-10-14 13:18:41 -0400 (Thu, 14 Oct 2021) EllapsedTime: 60.1 seconds RetCode: 0 Status: OK PackageFile: miRNAtap_1.26.0.tar.gz PackageFileSize: 166.5 KiB