git_url: https://git.bioconductor.org/packages/miRNAtap git_branch: RELEASE_3_13 git_last_commit: 22a41a2 git_last_commit_date: 2021-05-19 12:06:40 -0400 (Wed, 19 May 2021) Package: miRNAtap Version: 1.26.0 Maintainer: T. Ian Simpson MaintainerEmail: ian.simpson at ed.ac.uk