Package: miRBaseConverter Version: 1.16.0 Command: /home/biocbuild/bbs-3.13-bioc/R/bin/R CMD INSTALL miRBaseConverter StartedAt: 2021-10-14 06:02:14 -0400 (Thu, 14 Oct 2021) EndedAt: 2021-10-14 06:02:31 -0400 (Thu, 14 Oct 2021) EllapsedTime: 16.8 seconds RetCode: 0 Status: OK