Package: mgsa Version: 1.40.0 Command: /Library/Frameworks/R.framework/Versions/Current/Resources/bin/R CMD INSTALL mgsa StartedAt: 2021-10-14 08:14:07 -0400 (Thu, 14 Oct 2021) EndedAt: 2021-10-14 08:14:55 -0400 (Thu, 14 Oct 2021) EllapsedTime: 48.1 seconds RetCode: 0 Status: OK