Package: mgsa Version: 1.40.0 Command: /Library/Frameworks/R.framework/Versions/Current/Resources/bin/R CMD check --install=check:mgsa.install-out.txt --library=/Library/Frameworks/R.framework/Versions/Current/Resources/library --no-vignettes --timings mgsa_1.40.0.tar.gz StartedAt: 2021-10-14 21:05:10 -0400 (Thu, 14 Oct 2021) EndedAt: 2021-10-14 21:06:09 -0400 (Thu, 14 Oct 2021) EllapsedTime: 58.7 seconds RetCode: 0 Status: OK CheckDir: mgsa.Rcheck Warnings: 0