Package: methylKit Version: 1.18.0 Command: C:\cygwin\bin\curl.exe -O http://155.52.207.165/BBS/3.13/bioc/src/contrib/methylKit_1.18.0.tar.gz && rm -rf methylKit.buildbin-libdir && mkdir methylKit.buildbin-libdir && C:\Users\biocbuild\bbs-3.13-bioc\R\bin\R.exe CMD INSTALL --merge-multiarch --build --library=methylKit.buildbin-libdir methylKit_1.18.0.tar.gz && C:\Users\biocbuild\bbs-3.13-bioc\R\bin\R.exe CMD INSTALL methylKit_1.18.0.zip && rm methylKit_1.18.0.tar.gz methylKit_1.18.0.zip StartedAt: 2021-10-14 10:39:27 -0400 (Thu, 14 Oct 2021) EndedAt: 2021-10-14 10:42:09 -0400 (Thu, 14 Oct 2021) EllapsedTime: 161.9 seconds RetCode: 0 Status: OK