Package: methylKit Version: 1.18.0 Command: /Library/Frameworks/R.framework/Versions/Current/Resources/bin/R CMD INSTALL methylKit StartedAt: 2021-10-14 10:06:13 -0400 (Thu, 14 Oct 2021) EndedAt: 2021-10-14 10:07:32 -0400 (Thu, 14 Oct 2021) EllapsedTime: 78.4 seconds RetCode: 0 Status: OK