Package: methylInheritance Version: 1.16.0 Command: C:\cygwin\bin\curl.exe -O http://155.52.207.165/BBS/3.13/bioc/src/contrib/methylInheritance_1.16.0.tar.gz && rm -rf methylInheritance.buildbin-libdir && mkdir methylInheritance.buildbin-libdir && C:\Users\biocbuild\bbs-3.13-bioc\R\bin\R.exe CMD INSTALL --merge-multiarch --build --library=methylInheritance.buildbin-libdir methylInheritance_1.16.0.tar.gz && C:\Users\biocbuild\bbs-3.13-bioc\R\bin\R.exe CMD INSTALL methylInheritance_1.16.0.zip && rm methylInheritance_1.16.0.tar.gz methylInheritance_1.16.0.zip StartedAt: 2021-10-14 10:42:29 -0400 (Thu, 14 Oct 2021) EndedAt: 2021-10-14 10:43:30 -0400 (Thu, 14 Oct 2021) EllapsedTime: 61.0 seconds RetCode: 0 Status: OK