Package: methylInheritance Version: 1.16.0 Command: /home/biocbuild/bbs-3.13-bioc/R/bin/R CMD INSTALL methylInheritance StartedAt: 2021-10-14 06:28:09 -0400 (Thu, 14 Oct 2021) EndedAt: 2021-10-14 06:28:41 -0400 (Thu, 14 Oct 2021) EllapsedTime: 31.1 seconds RetCode: 0 Status: OK