Package: methylCC Version: 1.6.0 Command: chmod a+r methylCC -R && C:\Users\biocbuild\bbs-3.13-bioc\R\bin\R.exe CMD build --keep-empty-dirs --no-resave-data methylCC StartedAt: 2021-10-14 15:35:19 -0400 (Thu, 14 Oct 2021) EndedAt: 2021-10-14 15:40:59 -0400 (Thu, 14 Oct 2021) EllapsedTime: 340.0 seconds RetCode: 0 Status: OK PackageFile: methylCC_1.6.0.tar.gz PackageFileSize: 4.371 MiB