Package: methylCC Version: 1.6.0 Command: /home/biocbuild/bbs-3.13-bioc/R/bin/R CMD build --keep-empty-dirs --no-resave-data methylCC StartedAt: 2021-10-14 07:42:20 -0400 (Thu, 14 Oct 2021) EndedAt: 2021-10-14 07:46:00 -0400 (Thu, 14 Oct 2021) EllapsedTime: 220.3 seconds RetCode: 0 Status: OK PackageFile: methylCC_1.6.0.tar.gz PackageFileSize: 4.421 MiB