Package: methylCC Version: 1.6.0 Command: /Library/Frameworks/R.framework/Versions/Current/Resources/bin/R CMD build --keep-empty-dirs --no-resave-data methylCC StartedAt: 2021-10-14 13:09:49 -0400 (Thu, 14 Oct 2021) EndedAt: 2021-10-14 13:14:34 -0400 (Thu, 14 Oct 2021) EllapsedTime: 285.7 seconds RetCode: 0 Status: OK PackageFile: methylCC_1.6.0.tar.gz PackageFileSize: 4.42 MiB