Package: methylCC Version: 1.6.0 Command: rm -rf methylCC.buildbin-libdir && mkdir methylCC.buildbin-libdir && /Users/biocbuild/BBS/utils/build-universal.sh methylCC_1.6.0.tar.gz /Library/Frameworks/R.framework/Versions/Current/Resources/bin/R methylCC.buildbin-libdir StartedAt: 2021-10-15 03:04:09 -0400 (Fri, 15 Oct 2021) EndedAt: 2021-10-15 03:05:08 -0400 (Fri, 15 Oct 2021) EllapsedTime: 59.3 seconds RetCode: 0 Status: OK PackageFile: methylCC_1.6.0.tgz PackageFileSize: 4.756 MiB