Package: metahdep Version: 1.50.0 Command: chmod a+r metahdep -R && C:\Users\biocbuild\bbs-3.13-bioc\R\bin\R.exe CMD build --keep-empty-dirs --no-resave-data metahdep StartedAt: 2021-10-14 15:32:02 -0400 (Thu, 14 Oct 2021) EndedAt: 2021-10-14 15:32:20 -0400 (Thu, 14 Oct 2021) EllapsedTime: 18.0 seconds RetCode: 0 Status: OK PackageFile: metahdep_1.50.0.tar.gz PackageFileSize: 439.9 KiB