Package: metahdep Version: 1.50.0 Command: /home/biocbuild/bbs-3.13-bioc/R/bin/R CMD build --keep-empty-dirs --no-resave-data metahdep StartedAt: 2021-10-14 07:41:00 -0400 (Thu, 14 Oct 2021) EndedAt: 2021-10-14 07:41:06 -0400 (Thu, 14 Oct 2021) EllapsedTime: 5.7 seconds RetCode: 0 Status: OK PackageFile: metahdep_1.50.0.tar.gz PackageFileSize: 438.2 KiB