Package: metahdep Version: 1.50.0 Command: /Library/Frameworks/R.framework/Versions/Current/Resources/bin/R CMD check --install=check:metahdep.install-out.txt --library=/Library/Frameworks/R.framework/Versions/Current/Resources/library --no-vignettes --timings metahdep_1.50.0.tar.gz StartedAt: 2021-10-14 20:52:34 -0400 (Thu, 14 Oct 2021) EndedAt: 2021-10-14 20:53:17 -0400 (Thu, 14 Oct 2021) EllapsedTime: 42.6 seconds RetCode: 0 Status: WARNINGS CheckDir: metahdep.Rcheck Warnings: 1