git_url: https://git.bioconductor.org/packages/metahdep git_branch: RELEASE_3_13 git_last_commit: 49da854 git_last_commit_date: 2021-05-19 11:42:42 -0400 (Wed, 19 May 2021) Package: metahdep Version: 1.50.0 Maintainer: John R. Stevens MaintainerEmail: john.r.stevens at usu.edu