| Back to Multiple platform build/check report for BioC 3.13 |
|
This page was generated on 2021-10-15 15:05:45 -0400 (Fri, 15 Oct 2021).
|
To the developers/maintainers of the metagenomeSeq package: - Please allow up to 24 hours (and sometimes 48 hours) for your latest push to git@git.bioconductor.org:packages/metagenomeSeq.git to reflect on this report. See How and When does the builder pull? When will my changes propagate? here for more information. - Make sure to use the following settings in order to reproduce any error or warning you see on this page. |
| Package 1087/2041 | Hostname | OS / Arch | INSTALL | BUILD | CHECK | BUILD BIN | ||||||||
| metagenomeSeq 1.34.0 (landing page) Joseph N. Paulson
| nebbiolo1 | Linux (Ubuntu 20.04.2 LTS) / x86_64 | OK | OK | OK | |||||||||
| tokay2 | Windows Server 2012 R2 Standard / x64 | OK | OK | OK | OK | |||||||||
| machv2 | macOS 10.14.6 Mojave / x86_64 | OK | OK | OK | OK | |||||||||
| Package: metagenomeSeq |
| Version: 1.34.0 |
| Command: /home/biocbuild/bbs-3.13-bioc/R/bin/R CMD check --install=check:metagenomeSeq.install-out.txt --library=/home/biocbuild/bbs-3.13-bioc/R/library --no-vignettes --timings metagenomeSeq_1.34.0.tar.gz |
| StartedAt: 2021-10-14 10:30:59 -0400 (Thu, 14 Oct 2021) |
| EndedAt: 2021-10-14 10:34:26 -0400 (Thu, 14 Oct 2021) |
| EllapsedTime: 206.8 seconds |
| RetCode: 0 |
| Status: OK |
| CheckDir: metagenomeSeq.Rcheck |
| Warnings: 0 |
##############################################################################
##############################################################################
###
### Running command:
###
### /home/biocbuild/bbs-3.13-bioc/R/bin/R CMD check --install=check:metagenomeSeq.install-out.txt --library=/home/biocbuild/bbs-3.13-bioc/R/library --no-vignettes --timings metagenomeSeq_1.34.0.tar.gz
###
##############################################################################
##############################################################################
* using log directory ‘/home/biocbuild/bbs-3.13-bioc/meat/metagenomeSeq.Rcheck’
* using R version 4.1.1 (2021-08-10)
* using platform: x86_64-pc-linux-gnu (64-bit)
* using session charset: UTF-8
* using option ‘--no-vignettes’
* checking for file ‘metagenomeSeq/DESCRIPTION’ ... OK
* this is package ‘metagenomeSeq’ version ‘1.34.0’
* checking package namespace information ... OK
* checking package dependencies ... OK
* checking if this is a source package ... OK
* checking if there is a namespace ... OK
* checking for hidden files and directories ... OK
* checking for portable file names ... OK
* checking for sufficient/correct file permissions ... OK
* checking whether package ‘metagenomeSeq’ can be installed ... OK
* checking installed package size ... OK
* checking package directory ... OK
* checking ‘build’ directory ... OK
* checking DESCRIPTION meta-information ... OK
* checking top-level files ... OK
* checking for left-over files ... OK
* checking index information ... OK
* checking package subdirectories ... OK
* checking R files for non-ASCII characters ... OK
* checking R files for syntax errors ... OK
* checking whether the package can be loaded ... OK
* checking whether the package can be loaded with stated dependencies ... OK
* checking whether the package can be unloaded cleanly ... OK
* checking whether the namespace can be loaded with stated dependencies ... OK
* checking whether the namespace can be unloaded cleanly ... OK
* checking dependencies in R code ... OK
* checking S3 generic/method consistency ... OK
* checking replacement functions ... OK
* checking foreign function calls ... OK
* checking R code for possible problems ... OK
* checking Rd files ... OK
* checking Rd metadata ... OK
* checking Rd cross-references ... OK
* checking for missing documentation entries ... OK
* checking for code/documentation mismatches ... OK
* checking Rd \usage sections ... OK
* checking Rd contents ... OK
* checking for unstated dependencies in examples ... OK
* checking contents of ‘data’ directory ... OK
* checking data for non-ASCII characters ... OK
* checking data for ASCII and uncompressed saves ... OK
* checking files in ‘vignettes’ ... OK
* checking examples ... OK
Examples with CPU (user + system) or elapsed time > 5s
user system elapsed
wrenchNorm 13.039 0.284 13.324
* checking for unstated dependencies in ‘tests’ ... OK
* checking tests ...
Running ‘testthat.R’
OK
* checking for unstated dependencies in vignettes ... OK
* checking package vignettes in ‘inst/doc’ ... OK
* checking running R code from vignettes ... SKIPPED
* checking re-building of vignette outputs ... SKIPPED
* checking PDF version of manual ... OK
* DONE
Status: OK
metagenomeSeq.Rcheck/00install.out
############################################################################## ############################################################################## ### ### Running command: ### ### /home/biocbuild/bbs-3.13-bioc/R/bin/R CMD INSTALL metagenomeSeq ### ############################################################################## ############################################################################## * installing to library ‘/home/biocbuild/bbs-3.13-bioc/R/library’ * installing *source* package ‘metagenomeSeq’ ... ** using staged installation ** R ** data ** inst ** byte-compile and prepare package for lazy loading in method for ‘MRihw’ with signature ‘"fitFeatureModelResults"’: no definition for class “fitFeatureModelResults” in method for ‘MRihw’ with signature ‘"fitZigResults"’: no definition for class “fitZigResults” ** help *** installing help indices ** building package indices ** installing vignettes ** testing if installed package can be loaded from temporary location ** testing if installed package can be loaded from final location ** testing if installed package keeps a record of temporary installation path * DONE (metagenomeSeq)
metagenomeSeq.Rcheck/tests/testthat.Rout
R version 4.1.1 (2021-08-10) -- "Kick Things"
Copyright (C) 2021 The R Foundation for Statistical Computing
Platform: x86_64-pc-linux-gnu (64-bit)
R is free software and comes with ABSOLUTELY NO WARRANTY.
You are welcome to redistribute it under certain conditions.
Type 'license()' or 'licence()' for distribution details.
R is a collaborative project with many contributors.
Type 'contributors()' for more information and
'citation()' on how to cite R or R packages in publications.
Type 'demo()' for some demos, 'help()' for on-line help, or
'help.start()' for an HTML browser interface to help.
Type 'q()' to quit R.
> library("testthat")
> packageVersion("metagenomeSeq")
[1] '1.34.0'
> # As suggested for opt-out option on testing by users,
> # recommended by CRAN: http://adv-r.had.co.nz/Testing.html
> # Previously, best practice was to put all test files in inst/tests
> # and ensure that R CMD check ran them by putting the following code in tests/test-all.R:
> # >library(testthat)
> # >library(yourpackage)
> # >test_package("yourpackage")
> # Now, recommended practice is to put your tests in tests/testthat,
> # and ensure R CMD check runs them by putting the following code in tests/test-all.R:
> # >library(testthat)
> # >test_check("yourpackage")
> # The advantage of this new structure is that the user has control over whether or not tests are installed using the –install-tests parameter to
> # R CMD install, or INSTALL_opts = c(“–install-tests”) argument to install.packages(). I’m not sure why you wouldn’t want to install the tests,
> # but now you have the flexibility as requested by CRAN maintainers.
> test_check("metagenomeSeq")
Loading required package: metagenomeSeq
Loading required package: Biobase
Loading required package: BiocGenerics
Loading required package: parallel
Attaching package: 'BiocGenerics'
The following objects are masked from 'package:parallel':
clusterApply, clusterApplyLB, clusterCall, clusterEvalQ,
clusterExport, clusterMap, parApply, parCapply, parLapply,
parLapplyLB, parRapply, parSapply, parSapplyLB
The following objects are masked from 'package:stats':
IQR, mad, sd, var, xtabs
The following objects are masked from 'package:base':
Filter, Find, Map, Position, Reduce, anyDuplicated, append,
as.data.frame, basename, cbind, colnames, dirname, do.call,
duplicated, eval, evalq, get, grep, grepl, intersect, is.unsorted,
lapply, mapply, match, mget, order, paste, pmax, pmax.int, pmin,
pmin.int, rank, rbind, rownames, sapply, setdiff, sort, table,
tapply, union, unique, unsplit, which.max, which.min
Welcome to Bioconductor
Vignettes contain introductory material; view with
'browseVignettes()'. To cite Bioconductor, see
'citation("Biobase")', and for packages 'citation("pkgname")'.
Loading required package: limma
Attaching package: 'limma'
The following object is masked from 'package:BiocGenerics':
plotMA
Loading required package: glmnet
Loading required package: Matrix
Loaded glmnet 4.1-2
Loading required package: RColorBrewer
[ FAIL 0 | WARN 6 | SKIP 0 | PASS 15 ]
>
> proc.time()
user system elapsed
85.974 2.568 88.531
metagenomeSeq.Rcheck/metagenomeSeq-Ex.timings
| name | user | system | elapsed | |
| MRcoefs | 1.201 | 0.084 | 1.284 | |
| MRcounts | 0.527 | 0.028 | 0.555 | |
| MRexperiment-class | 0 | 0 | 0 | |
| MRfulltable | 1.022 | 0.034 | 4.926 | |
| MRtable | 0.894 | 0.004 | 0.898 | |
| aggregateBySample | 0.137 | 0.008 | 0.145 | |
| aggregateByTaxonomy | 0.151 | 0.008 | 0.159 | |
| biom2MRexperiment | 0.279 | 0.004 | 0.282 | |
| calcNormFactors | 0.645 | 0.032 | 0.677 | |
| correctIndices | 0.094 | 0.008 | 0.103 | |
| correlationTest | 0.192 | 0.025 | 0.217 | |
| cumNorm | 0.426 | 0.007 | 0.432 | |
| cumNormMat | 0.472 | 0.032 | 0.503 | |
| cumNormStat | 0.448 | 0.024 | 0.472 | |
| cumNormStatFast | 0.3 | 0.0 | 0.3 | |
| expSummary | 0.081 | 0.020 | 0.101 | |
| exportMat | 0.957 | 3.650 | 4.607 | |
| exportStats | 0.415 | 0.016 | 0.431 | |
| extractMR | 0.701 | 1.531 | 2.232 | |
| filterData | 0.148 | 0.025 | 0.173 | |
| fitDO | 0.574 | 0.008 | 2.933 | |
| fitFeatureModel | 0.800 | 0.012 | 0.813 | |
| fitLogNormal | 1.783 | 0.016 | 1.800 | |
| fitMultipleTimeSeries | 1.530 | 0.012 | 1.542 | |
| fitPA | 0.643 | 0.017 | 2.937 | |
| fitSSTimeSeries | 0.372 | 0.004 | 0.375 | |
| fitTimeSeries | 0.366 | 0.008 | 0.374 | |
| fitZig | 1.728 | 0.016 | 1.743 | |
| libSize-set | 0.303 | 0.017 | 0.319 | |
| libSize | 0.281 | 0.007 | 0.288 | |
| loadBiom | 0.033 | 0.001 | 0.035 | |
| loadMeta | 0.025 | 0.003 | 0.029 | |
| loadMetaQ | 0 | 0 | 0 | |
| loadPhenoData | 0.007 | 0.001 | 0.007 | |
| makeLabels | 0 | 0 | 0 | |
| mergeMRexperiments | 1.539 | 0.217 | 1.757 | |
| newMRexperiment | 0.023 | 0.001 | 0.025 | |
| normFactors-set | 0.314 | 0.024 | 0.338 | |
| normFactors | 0.268 | 0.016 | 0.284 | |
| plotBubble | 0.283 | 0.008 | 2.506 | |
| plotClassTimeSeries | 0.972 | 0.012 | 0.984 | |
| plotCorr | 0.422 | 0.021 | 0.442 | |
| plotFeature | 0.147 | 0.023 | 0.171 | |
| plotGenus | 0.128 | 0.023 | 0.151 | |
| plotMRheatmap | 1.660 | 0.028 | 1.687 | |
| plotOTU | 0.146 | 0.011 | 0.158 | |
| plotOrd | 0.207 | 0.012 | 0.218 | |
| plotRare | 0.135 | 0.020 | 0.155 | |
| plotTimeSeries | 0.952 | 0.013 | 0.964 | |
| posteriorProbs | 1.800 | 0.049 | 1.849 | |
| returnAppropriateObj | 0.308 | 0.006 | 0.314 | |
| ssFit | 0.000 | 0.000 | 0.001 | |
| ssIntervalCandidate | 0 | 0 | 0 | |
| ssPerm | 0 | 0 | 0 | |
| ssPermAnalysis | 0 | 0 | 0 | |
| trapz | 0.000 | 0.001 | 0.001 | |
| ts2MRexperiment | 1.552 | 0.016 | 1.568 | |
| uniqueFeatures | 0.113 | 0.000 | 0.114 | |
| wrenchNorm | 13.039 | 0.284 | 13.324 | |
| zigControl | 0 | 0 | 0 | |