git_url: https://git.bioconductor.org/packages/metagene git_branch: RELEASE_3_13 git_last_commit: f85b3d4 git_last_commit_date: 2021-05-19 12:06:34 -0400 (Wed, 19 May 2021) Package: metagene Version: 2.24.0 Maintainer: Charles Joly Beauparlant MaintainerEmail: charles.joly-beauparlant at crchul.ulaval.ca