Package: metaSeq Version: 1.32.0 Command: C:\cygwin\bin\curl.exe -O http://155.52.207.165/BBS/3.13/bioc/src/contrib/metaSeq_1.32.0.tar.gz && rm -rf metaSeq.buildbin-libdir && mkdir metaSeq.buildbin-libdir && C:\Users\biocbuild\bbs-3.13-bioc\R\bin\R.exe CMD INSTALL --merge-multiarch --build --library=metaSeq.buildbin-libdir metaSeq_1.32.0.tar.gz && C:\Users\biocbuild\bbs-3.13-bioc\R\bin\R.exe CMD INSTALL metaSeq_1.32.0.zip && rm metaSeq_1.32.0.tar.gz metaSeq_1.32.0.zip StartedAt: 2021-10-14 07:42:04 -0400 (Thu, 14 Oct 2021) EndedAt: 2021-10-14 07:42:59 -0400 (Thu, 14 Oct 2021) EllapsedTime: 54.9 seconds RetCode: 0 Status: OK