Package: metaCCA Version: 1.20.0 Command: chmod a+r metaCCA -R && C:\Users\biocbuild\bbs-3.13-bioc\R\bin\R.exe CMD build --keep-empty-dirs --no-resave-data metaCCA StartedAt: 2021-10-14 15:30:47 -0400 (Thu, 14 Oct 2021) EndedAt: 2021-10-14 15:31:37 -0400 (Thu, 14 Oct 2021) EllapsedTime: 50.1 seconds RetCode: 0 Status: OK PackageFile: metaCCA_1.20.0.tar.gz PackageFileSize: 917.9 KiB