Package: messina Version: 1.28.0 Command: /home/biocbuild/bbs-3.13-bioc/R/bin/R CMD check --install=check:messina.install-out.txt --library=/home/biocbuild/bbs-3.13-bioc/R/library --no-vignettes --timings messina_1.28.0.tar.gz StartedAt: 2021-10-14 10:30:22 -0400 (Thu, 14 Oct 2021) EndedAt: 2021-10-14 10:34:48 -0400 (Thu, 14 Oct 2021) EllapsedTime: 266.7 seconds RetCode: 0 Status: OK CheckDir: messina.Rcheck Warnings: 0