Package: messina Version: 1.28.0 Command: /Library/Frameworks/R.framework/Versions/Current/Resources/bin/R CMD INSTALL messina StartedAt: 2021-10-14 08:50:10 -0400 (Thu, 14 Oct 2021) EndedAt: 2021-10-14 08:51:01 -0400 (Thu, 14 Oct 2021) EllapsedTime: 51.2 seconds RetCode: 0 Status: OK