Package: messina Version: 1.28.0 Command: rm -rf messina.buildbin-libdir && mkdir messina.buildbin-libdir && /Users/biocbuild/BBS/utils/build-universal.sh messina_1.28.0.tar.gz /Library/Frameworks/R.framework/Versions/Current/Resources/bin/R messina.buildbin-libdir StartedAt: 2021-10-15 03:01:33 -0400 (Fri, 15 Oct 2021) EndedAt: 2021-10-15 03:02:37 -0400 (Fri, 15 Oct 2021) EllapsedTime: 64.9 seconds RetCode: 0 Status: OK PackageFile: messina_1.28.0.tgz PackageFileSize: 521.3 KiB