Package: meshr Version: 1.28.0 Command: /home/biocbuild/bbs-3.13-bioc/R/bin/R CMD INSTALL meshr StartedAt: 2021-10-14 06:34:07 -0400 (Thu, 14 Oct 2021) EndedAt: 2021-10-14 06:34:57 -0400 (Thu, 14 Oct 2021) EllapsedTime: 50.1 seconds RetCode: 0 Status: OK