Package: mdp Version: 1.12.0 Command: chmod a+r mdp -R && C:\Users\biocbuild\bbs-3.13-bioc\R\bin\R.exe CMD build --keep-empty-dirs --no-resave-data mdp StartedAt: 2021-10-14 15:25:59 -0400 (Thu, 14 Oct 2021) EndedAt: 2021-10-14 15:26:28 -0400 (Thu, 14 Oct 2021) EllapsedTime: 28.3 seconds RetCode: 0 Status: OK PackageFile: mdp_1.12.0.tar.gz PackageFileSize: 4.139 MiB