Package: mdp Version: 1.12.0 Command: /home/biocbuild/bbs-3.13-bioc/R/bin/R CMD INSTALL mdp StartedAt: 2021-10-14 06:06:48 -0400 (Thu, 14 Oct 2021) EndedAt: 2021-10-14 06:06:51 -0400 (Thu, 14 Oct 2021) EllapsedTime: 3.4 seconds RetCode: 0 Status: OK