Package: mdp Version: 1.12.0 Command: /home/biocbuild/bbs-3.13-bioc/R/bin/R CMD build --keep-empty-dirs --no-resave-data mdp StartedAt: 2021-10-14 07:39:20 -0400 (Thu, 14 Oct 2021) EndedAt: 2021-10-14 07:39:36 -0400 (Thu, 14 Oct 2021) EllapsedTime: 16.3 seconds RetCode: 0 Status: OK PackageFile: mdp_1.12.0.tar.gz PackageFileSize: 4.287 MiB