Package: mdp Version: 1.12.0 Command: /Library/Frameworks/R.framework/Versions/Current/Resources/bin/R CMD INSTALL mdp StartedAt: 2021-10-14 08:50:06 -0400 (Thu, 14 Oct 2021) EndedAt: 2021-10-14 08:50:57 -0400 (Thu, 14 Oct 2021) EllapsedTime: 50.6 seconds RetCode: 0 Status: OK