Package: mdgsa Version: 1.24.0 Command: C:\cygwin\bin\curl.exe -O http://155.52.207.165/BBS/3.13/bioc/src/contrib/mdgsa_1.24.0.tar.gz && rm -rf mdgsa.buildbin-libdir && mkdir mdgsa.buildbin-libdir && C:\Users\biocbuild\bbs-3.13-bioc\R\bin\R.exe CMD INSTALL --merge-multiarch --build --library=mdgsa.buildbin-libdir mdgsa_1.24.0.tar.gz && C:\Users\biocbuild\bbs-3.13-bioc\R\bin\R.exe CMD INSTALL mdgsa_1.24.0.zip && rm mdgsa_1.24.0.tar.gz mdgsa_1.24.0.zip StartedAt: 2021-10-14 11:27:38 -0400 (Thu, 14 Oct 2021) EndedAt: 2021-10-14 11:27:40 -0400 (Thu, 14 Oct 2021) EllapsedTime: 1.5 seconds RetCode: 1 Status: ERROR