Package: mdgsa Version: 1.24.0 Command: chmod a+r mdgsa -R && C:\Users\biocbuild\bbs-3.13-bioc\R\bin\R.exe CMD build --keep-empty-dirs --no-resave-data mdgsa StartedAt: 2021-10-14 15:25:52 -0400 (Thu, 14 Oct 2021) EndedAt: 2021-10-14 15:25:59 -0400 (Thu, 14 Oct 2021) EllapsedTime: 7.9 seconds RetCode: 1 Status: ERROR PackageFile: mdgsa_1.24.0.tar.gz PackageFileSize: 32.3 KiB