############################################################################## ############################################################################## ### ### Running command: ### ### chmod a+r mdgsa -R && C:\Users\biocbuild\bbs-3.13-bioc\R\bin\R.exe CMD build --keep-empty-dirs --no-resave-data mdgsa ### ############################################################################## ############################################################################## * checking for file 'mdgsa/DESCRIPTION' ... OK * preparing 'mdgsa': * checking DESCRIPTION meta-information ... OK * installing the package to build vignettes ----------------------------------- ERROR: dependency 'KEGG.db' is not available for package 'mdgsa' * removing 'C:/Users/biocbuild/bbs-3.13-bioc/tmpdir/Rtmp2BynHZ/Rinst1b28649e25c/mdgsa' ----------------------------------- ERROR: package installation failed