Package: mdgsa Version: 1.24.0 Command: /home/biocbuild/bbs-3.13-bioc/R/bin/R CMD build --keep-empty-dirs --no-resave-data mdgsa StartedAt: 2021-10-14 07:39:19 -0400 (Thu, 14 Oct 2021) EndedAt: 2021-10-14 07:39:20 -0400 (Thu, 14 Oct 2021) EllapsedTime: 0.7 seconds RetCode: 1 Status: ERROR PackageFile: None PackageFileSize: NA