Package: mdgsa Version: 1.24.0 Command: /Library/Frameworks/R.framework/Versions/Current/Resources/bin/R CMD build --keep-empty-dirs --no-resave-data mdgsa StartedAt: 2021-10-14 13:01:54 -0400 (Thu, 14 Oct 2021) EndedAt: 2021-10-14 13:01:55 -0400 (Thu, 14 Oct 2021) EllapsedTime: 1.2 seconds RetCode: 1 Status: ERROR PackageFile: None PackageFileSize: NA