Package: maskBAD Version: 1.36.0 Command: /home/biocbuild/bbs-3.13-bioc/R/bin/R CMD build --keep-empty-dirs --no-resave-data maskBAD StartedAt: 2021-10-14 07:38:11 -0400 (Thu, 14 Oct 2021) EndedAt: 2021-10-14 07:39:28 -0400 (Thu, 14 Oct 2021) EllapsedTime: 77.3 seconds RetCode: 0 Status: OK PackageFile: maskBAD_1.36.0.tar.gz PackageFileSize: 1.389 MiB