Package: maser Version: 1.10.0 Command: chmod a+r maser -R && C:\Users\biocbuild\bbs-3.13-bioc\R\bin\R.exe CMD build --keep-empty-dirs --no-resave-data maser StartedAt: 2021-10-14 15:22:32 -0400 (Thu, 14 Oct 2021) EndedAt: 2021-10-14 15:28:36 -0400 (Thu, 14 Oct 2021) EllapsedTime: 364.3 seconds RetCode: 0 Status: OK PackageFile: maser_1.10.0.tar.gz PackageFileSize: 2.259 MiB