Package: martini Version: 1.12.0 Command: chmod a+r martini -R && C:\Users\biocbuild\bbs-3.13-bioc\R\bin\R.exe CMD build --keep-empty-dirs --no-resave-data martini StartedAt: 2021-10-14 15:22:23 -0400 (Thu, 14 Oct 2021) EndedAt: 2021-10-14 15:23:14 -0400 (Thu, 14 Oct 2021) EllapsedTime: 51.3 seconds RetCode: 0 Status: OK PackageFile: martini_1.12.0.tar.gz PackageFileSize: 2.89 MiB