Package: marray Version: 1.70.0 Command: chmod a+r marray -R && C:\Users\biocbuild\bbs-3.13-bioc\R\bin\R.exe CMD build --keep-empty-dirs --no-resave-data marray StartedAt: 2021-10-14 15:22:15 -0400 (Thu, 14 Oct 2021) EndedAt: 2021-10-14 15:23:43 -0400 (Thu, 14 Oct 2021) EllapsedTime: 88.3 seconds RetCode: 0 Status: OK PackageFile: marray_1.70.0.tar.gz PackageFileSize: 5.022 MiB