Package: marray
Version: 1.70.0
Command: /home/biocbuild/bbs-3.13-bioc/R/bin/R CMD build --keep-empty-dirs --no-resave-data marray
StartedAt: 2021-10-14 07:37:52 -0400 (Thu, 14 Oct 2021)
EndedAt: 2021-10-14 07:38:23 -0400 (Thu, 14 Oct 2021)
EllapsedTime: 31.2 seconds
RetCode: 0
Status: OK
PackageFile: marray_1.70.0.tar.gz
PackageFileSize: 4.921 <A href="http://en.wikipedia.org/wiki/MiB" target="_blank">MiB</A>