Package: marray Version: 1.70.0 Command: /Library/Frameworks/R.framework/Versions/Current/Resources/bin/R CMD check --install=check:marray.install-out.txt --library=/Library/Frameworks/R.framework/Versions/Current/Resources/library --no-vignettes --timings marray_1.70.0.tar.gz StartedAt: 2021-10-14 20:39:29 -0400 (Thu, 14 Oct 2021) EndedAt: 2021-10-14 20:40:43 -0400 (Thu, 14 Oct 2021) EllapsedTime: 74.5 seconds RetCode: 0 Status: OK CheckDir: marray.Rcheck Warnings: 0