git_url: https://git.bioconductor.org/packages/marray git_branch: RELEASE_3_13 git_last_commit: 9f63605 git_last_commit_date: 2021-05-19 11:34:22 -0400 (Wed, 19 May 2021) Package: marray Version: 1.70.0 Maintainer: Yee Hwa (Jean) Yang MaintainerEmail: jean at biostat.ucsf.edu