Package: marr Version: 1.2.0 Command: /home/biocbuild/bbs-3.13-bioc/R/bin/R CMD check --install=check:marr.install-out.txt --library=/home/biocbuild/bbs-3.13-bioc/R/library --no-vignettes --timings marr_1.2.0.tar.gz StartedAt: 2021-10-14 10:26:28 -0400 (Thu, 14 Oct 2021) EndedAt: 2021-10-14 10:29:09 -0400 (Thu, 14 Oct 2021) EllapsedTime: 160.9 seconds RetCode: 0 Status: OK CheckDir: marr.Rcheck Warnings: 0