Package: marr Version: 1.2.0 Command: rm -rf marr.buildbin-libdir && mkdir marr.buildbin-libdir && /Users/biocbuild/BBS/utils/build-universal.sh marr_1.2.0.tar.gz /Library/Frameworks/R.framework/Versions/Current/Resources/bin/R marr.buildbin-libdir StartedAt: 2021-10-15 02:57:54 -0400 (Fri, 15 Oct 2021) EndedAt: 2021-10-15 02:58:54 -0400 (Fri, 15 Oct 2021) EllapsedTime: 59.6 seconds RetCode: 0 Status: OK PackageFile: marr_1.2.0.tgz PackageFileSize: 787.4 KiB