Package: mapscape Version: 1.16.0 Command: chmod a+r mapscape -R && C:\Users\biocbuild\bbs-3.13-bioc\R\bin\R.exe CMD build --keep-empty-dirs --no-resave-data mapscape StartedAt: 2021-10-14 15:21:57 -0400 (Thu, 14 Oct 2021) EndedAt: 2021-10-14 15:22:32 -0400 (Thu, 14 Oct 2021) EllapsedTime: 34.5 seconds RetCode: 0 Status: OK PackageFile: mapscape_1.16.0.tar.gz PackageFileSize: 4.795 MiB