Package: maSigPro Version: 1.64.0 Command: /Library/Frameworks/R.framework/Versions/Current/Resources/bin/R CMD build --keep-empty-dirs --no-resave-data maSigPro StartedAt: 2021-10-14 12:58:56 -0400 (Thu, 14 Oct 2021) EndedAt: 2021-10-14 12:59:10 -0400 (Thu, 14 Oct 2021) EllapsedTime: 14.0 seconds RetCode: 0 Status: OK PackageFile: maSigPro_1.64.0.tar.gz PackageFileSize: 1.475 MiB