Package: maSigPro Version: 1.64.0 Command: rm -rf maSigPro.buildbin-libdir && mkdir maSigPro.buildbin-libdir && /Users/biocbuild/BBS/utils/build-universal.sh maSigPro_1.64.0.tar.gz /Library/Frameworks/R.framework/Versions/Current/Resources/bin/R maSigPro.buildbin-libdir StartedAt: 2021-10-15 02:58:17 -0400 (Fri, 15 Oct 2021) EndedAt: 2021-10-15 02:59:21 -0400 (Fri, 15 Oct 2021) EllapsedTime: 64.0 seconds RetCode: 0 Status: OK PackageFile: maSigPro_1.64.0.tgz PackageFileSize: 1.641 MiB