git_url: https://git.bioconductor.org/packages/maPredictDSC git_branch: RELEASE_3_13 git_last_commit: 69aac22 git_last_commit_date: 2021-05-19 11:59:26 -0400 (Wed, 19 May 2021) Package: maPredictDSC Version: 1.30.0 Maintainer: Adi Laurentiu Tarca MaintainerEmail: atarca at med.wayne.edu