Package: maCorrPlot Version: 1.62.0 Command: chmod a+r maCorrPlot -R && C:\Users\biocbuild\bbs-3.13-bioc\R\bin\R.exe CMD build --keep-empty-dirs --no-resave-data maCorrPlot StartedAt: 2021-10-14 15:19:37 -0400 (Thu, 14 Oct 2021) EndedAt: 2021-10-14 15:20:13 -0400 (Thu, 14 Oct 2021) EllapsedTime: 36.1 seconds RetCode: 0 Status: OK PackageFile: maCorrPlot_1.62.0.tar.gz PackageFileSize: 1.281 MiB