Package: maCorrPlot Version: 1.62.0 Command: /home/biocbuild/bbs-3.13-bioc/R/bin/R CMD INSTALL maCorrPlot StartedAt: 2021-10-14 06:03:33 -0400 (Thu, 14 Oct 2021) EndedAt: 2021-10-14 06:03:56 -0400 (Thu, 14 Oct 2021) EllapsedTime: 23.0 seconds RetCode: 0 Status: OK