Package: mCSEA Version: 1.12.0 Command: rm -rf mCSEA.buildbin-libdir && mkdir mCSEA.buildbin-libdir && /Users/biocbuild/BBS/utils/build-universal.sh mCSEA_1.12.0.tar.gz /Library/Frameworks/R.framework/Versions/Current/Resources/bin/R mCSEA.buildbin-libdir StartedAt: 2021-10-15 02:59:52 -0400 (Fri, 15 Oct 2021) EndedAt: 2021-10-15 03:00:56 -0400 (Fri, 15 Oct 2021) EllapsedTime: 63.4 seconds RetCode: 0 Status: OK PackageFile: mCSEA_1.12.0.tgz PackageFileSize: 2.109 MiB